BEGIN:VCALENDAR
VERSION:2.0
PRODID:-//Tukios.com/
BEGIN:VEVENT
UID:0e9ee723-a713-49de-917d-2677b97fcc62@www.grenoblefuneralhome.com
DTSTAMP:20260423T221937Z
DTSTART:20260516T150000Z
DTEND:20260516T160000Z
SUMMARY:Memorial Service
DESCRIPTION:
URL:https://www.grenoblefuneralhome.com/obituaries/gary-reedy-sr
LOCATION:Lewisburg Bible Church 311 Hospital Drive  Lewisburg PA 17837
GEO:40.9873057;-76.8956634
END:VEVENT
END:VCALENDAR