BEGIN:VCALENDAR
VERSION:2.0
PRODID:-//Tukios.com/
BEGIN:VEVENT
UID:707f6831-75b5-475d-ad47-e44a54458b79@www.grenoblefuneralhome.com
DTSTAMP:20260423T222015Z
DTSTART:20260516T140000Z
DTEND:20260516T150000Z
SUMMARY:Visitation
DESCRIPTION:
URL:https://www.grenoblefuneralhome.com/obituaries/gary-reedy-sr
LOCATION:Lewisburg Bible Church 311 Hospital Drive  Lewisburg PA 17837
GEO:40.9873057;-76.8956634
END:VEVENT
END:VCALENDAR